BEGIN:VCALENDAR
VERSION:2.0
PRODID:-//wp-events-plugin.com//7.2.3.1//EN
TZID:Europe/Stockholm
X-WR-TIMEZONE:Europe/Stockholm
BEGIN:VEVENT
UID:1636@moderaternaihalland.se
DTSTART;TZID=Europe/Stockholm:20220603T100000
DTEND;TZID=Europe/Stockholm:20220603T100000
DTSTAMP:20220519T114819Z
URL:https://moderaternaihalland.se/events/vaxtorps-marknad/
SUMMARY:Våxtorps marknad
DESCRIPTION:Moderaterna i Laholm kampanjar under Våxtorps marknad.
ATTACH;FMTTYPE=image/jpeg:https://moderaternaihalland.se/wp-content/upload
 s/2019/11/grönt-gräs-blå-himmel.jpg
CATEGORIES:Kampanj,Laholm,Val 2022
LOCATION:Våxtorps marknad\, Våxtorps marknadsplats\, Våxtorp\, Sverige
X-APPLE-STRUCTURED-LOCATION;VALUE=URI;X-ADDRESS=Våxtorps marknadsplats\, V
 åxtorp\, Sverige;X-APPLE-RADIUS=100;X-TITLE=Våxtorps marknad:geo:0,0
END:VEVENT
BEGIN:VTIMEZONE
TZID:Europe/Stockholm
X-LIC-LOCATION:Europe/Stockholm
BEGIN:DAYLIGHT
DTSTART:20220327T030000
TZOFFSETFROM:+0100
TZOFFSETTO:+0200
TZNAME:CEST
END:DAYLIGHT
END:VTIMEZONE
END:VCALENDAR