BEGIN:VCALENDAR
VERSION:2.0
PRODID:-//wp-events-plugin.com//7.2.3.1//EN
TZID:Europe/Stockholm
X-WR-TIMEZONE:Europe/Stockholm
BEGIN:VEVENT
UID:1666@moderaternaihalland.se
DTSTART;TZID=Europe/Stockholm:20221203T090000
DTEND;TZID=Europe/Stockholm:20221203T143000
DTSTAMP:20221101T121509Z
URL:https://moderaternaihalland.se/events/utbildning-namnd-styrelseordfora
 nde-falkenberg/
SUMMARY:Utbildning nämnd-/styrelseordförande (Falkenberg)
DESCRIPTION:Moderaterna i Halland inbjuder de personer som är tänkta att 
 för första gången vara ordförande i en nämnd eller styrelse som fört
 roendevalda för Moderaterna. Ordförandeskapen kan vara i kommun/region. 
 Utbildningen vänder sig till max 20 personer.\n\nEfter lunch kommer vi at
 t dela upp oss i grupper och öva på att vara styrelse/nämnd i rollspel.
 \n\nVi bjuder på fika och lunch (ange eventuell specialkost via anmälnin
 gsformuläret).\nTalare\n\n 	Rie Boulund\, mångårig ordförande i kommun
 al nämnd\n 	Anders Ekström\, ordförande i kommunal nämnd och i kommunf
 ullmäktige\n 	Christian Johansson\, ordförande i kommunal nämnd och i r
 egional nämnd\n\nAnmälan\nSenast den 28 november via anmälningsformulä
 ret på https://moderaterna.info/m_apps/event/?eventkod=1603-39
ATTACH;FMTTYPE=image/jpeg:https://moderaternaihalland.se/wp-content/upload
 s/2019/11/ordförandeklubba.jpg
CATEGORIES:Falkenberg,Halland,Utbildning
LOCATION:Laxbutiken\, Heberg 109\, Heberg\, Sverige
X-APPLE-STRUCTURED-LOCATION;VALUE=URI;X-ADDRESS=Heberg 109\, Heberg\, Sveri
 ge;X-APPLE-RADIUS=100;X-TITLE=Laxbutiken:geo:0,0
END:VEVENT
BEGIN:VTIMEZONE
TZID:Europe/Stockholm
X-LIC-LOCATION:Europe/Stockholm
BEGIN:STANDARD
DTSTART:20221030T020000
TZOFFSETFROM:+0200
TZOFFSETTO:+0100
TZNAME:CET
END:STANDARD
END:VTIMEZONE
END:VCALENDAR