BEGIN:VCALENDAR
VERSION:2.0
PRODID:-//wp-events-plugin.com//7.2.3.1//EN
TZID:Europe/Stockholm
X-WR-TIMEZONE:Europe/Stockholm
BEGIN:VEVENT
UID:1586@moderaternaihalland.se
DTSTART;TZID=Europe/Stockholm:20220430T210000
DTEND;TZID=Europe/Stockholm:20220430T210000
DTSTAMP:20220322T092240Z
URL:https://moderaternaihalland.se/events/trygghetsvandring-halmstad-2/
SUMMARY:Trygghetsvandring (Halmstad)
DESCRIPTION:Moderaterna i Halmstad har trygghetsvandring. Samling på Stora
  Torg.
ATTACH;FMTTYPE=image/jpeg:https://moderaternaihalland.se/wp-content/upload
 s/2019/10/Trygghet.jpeg
CATEGORIES:Halmstad,Kampanj,Val 2022
LOCATION:Stora Torg (Halmstad)\, Stora Torg\, Halmstad\, Sverige
X-APPLE-STRUCTURED-LOCATION;VALUE=URI;X-ADDRESS=Stora Torg\, Halmstad\, Sve
 rige;X-APPLE-RADIUS=100;X-TITLE=Stora Torg (Halmstad):geo:0,0
END:VEVENT
BEGIN:VTIMEZONE
TZID:Europe/Stockholm
X-LIC-LOCATION:Europe/Stockholm
BEGIN:DAYLIGHT
DTSTART:20220327T030000
TZOFFSETFROM:+0100
TZOFFSETTO:+0200
TZNAME:CEST
END:DAYLIGHT
END:VTIMEZONE
END:VCALENDAR