BEGIN:VCALENDAR
VERSION:2.0
PRODID:-//wp-events-plugin.com//7.2.3.1//EN
TZID:Europe/Stockholm
X-WR-TIMEZONE:Europe/Stockholm
BEGIN:VEVENT
UID:1092@moderaternaihalland.se
DTSTART;TZID=Europe/Stockholm:20211020T180000
DTEND;TZID=Europe/Stockholm:20211020T203000
DTSTAMP:20211007T114243Z
URL:https://moderaternaihalland.se/events/temakvall-falkenberg/
SUMMARY:Temakväll (Falkenberg)
DESCRIPTION:Moderaterna bjuder medlemmar på temakväll om äldreomsorg\non
 sdag den 20 oktober kl 18-20.30 på Humanas äldreboende Dals Ängar\, Man
 dolinvägen 8 i Falkenberg\n\nVerksamhetsledare Elzbieta Durling berättar
  om boendet och hur Humana jobbar.\n\nVi behöver din anmälan då antal p
 latser är max 30 personer.\nAnmäl dig till rie.boulund@bredband.net elle
 r via mobil 0706- 00 00 94 senast 17 oktober.\nHumana bjuder på kaffe och
  fralla. Meddela om ev allergi.\n\nVälkomna!
ATTACH;FMTTYPE=image/jpeg:https://moderaternaihalland.se/wp-content/upload
 s/2019/11/äldre-par.jpg
CATEGORIES:Falkenberg,Utbildning
END:VEVENT
BEGIN:VTIMEZONE
TZID:Europe/Stockholm
X-LIC-LOCATION:Europe/Stockholm
BEGIN:DAYLIGHT
DTSTART:20210328T030000
TZOFFSETFROM:+0100
TZOFFSETTO:+0200
TZNAME:CEST
END:DAYLIGHT
END:VTIMEZONE
END:VCALENDAR