BEGIN:VCALENDAR
VERSION:2.0
PRODID:-//wp-events-plugin.com//7.2.3.1//EN
TZID:Europe/Stockholm
X-WR-TIMEZONE:Europe/Stockholm
BEGIN:VEVENT
UID:1008@moderaternaihalland.se
DTSTART;TZID=Europe/Stockholm:20211007T093000
DTEND;TZID=Europe/Stockholm:20211007T130000
DTSTAMP:20210527T134231Z
URL:https://moderaternaihalland.se/events/sydsvenskt-toppmote-kristianstad
 /
SUMMARY:Sydsvenskt toppmöte (Kristianstad)
DESCRIPTION:Regionsamverkan Sydsverige har sydsvenskt toppmöte med tema in
 frastruktur och bredband.
ATTACH;FMTTYPE=image/jpeg:https://moderaternaihalland.se/wp-content/upload
 s/2019/10/Infrastruktur.jpg
CATEGORIES:Diverse,Halland,Region Halland
LOCATION:Rådhus Skåne\, Västra Storgatan 12\, Kristianstad\, Sverige
X-APPLE-STRUCTURED-LOCATION;VALUE=URI;X-ADDRESS=Västra Storgatan 12\, Kris
 tianstad\, Sverige;X-APPLE-RADIUS=100;X-TITLE=Rådhus Skåne:geo:0,0
END:VEVENT
BEGIN:VTIMEZONE
TZID:Europe/Stockholm
X-LIC-LOCATION:Europe/Stockholm
BEGIN:DAYLIGHT
DTSTART:20210328T030000
TZOFFSETFROM:+0100
TZOFFSETTO:+0200
TZNAME:CEST
END:DAYLIGHT
END:VTIMEZONE
END:VCALENDAR