BEGIN:VCALENDAR
VERSION:2.0
PRODID:-//wp-events-plugin.com//7.2.3.1//EN
TZID:Europe/Stockholm
X-WR-TIMEZONE:Europe/Stockholm
BEGIN:VEVENT
UID:3851@moderaternaihalland.se
DTSTART;TZID=Europe/Stockholm:20260508T080000
DTEND;TZID=Europe/Stockholm:20260509T140000
DTSTAMP:20250220T224339Z
URL:https://moderaternaihalland.se/events/sverigemotet-2026/
SUMMARY:Sverigemötet 2026
DESCRIPTION:Äntligen är det dags för Moderaternas största årliga konfe
 rens!\n\nDu kan se fram emot ett fullspäckat program med ett stort utbud 
 av valbara seminarier\, utvecklande workshops och spännande talare. I år
  sker Sverigemötet på Stockholm Waterfront Congress Center den 8-9 maj.\
 n\nKontakta din föreningsordförande för mer information.
ATTACH;FMTTYPE=image/jpeg:https://moderaternaihalland.se/wp-content/upload
 s/2024/06/cropped-M_logo_bla_2021-Ikon-i-sidhuvudet.png
CATEGORIES:Riksorganisationen,Utbildning
LOCATION:Stockholm Waterfront Congress Center\, Nils Ericsons Plan 4\, Stoc
 kholm\, Sverige
X-APPLE-STRUCTURED-LOCATION;VALUE=URI;X-ADDRESS=Nils Ericsons Plan 4\, Stoc
 kholm\, Sverige;X-APPLE-RADIUS=100;X-TITLE=Stockholm Waterfront Congress C
 enter:geo:0,0
END:VEVENT
BEGIN:VTIMEZONE
TZID:Europe/Stockholm
X-LIC-LOCATION:Europe/Stockholm
BEGIN:DAYLIGHT
DTSTART:20260329T030000
TZOFFSETFROM:+0100
TZOFFSETTO:+0200
TZNAME:CEST
END:DAYLIGHT
END:VTIMEZONE
END:VCALENDAR