BEGIN:VCALENDAR
VERSION:2.0
PRODID:-//wp-events-plugin.com//7.2.3.1//EN
TZID:Europe/Stockholm
X-WR-TIMEZONE:Europe/Stockholm
BEGIN:VEVENT
UID:33@moderaternaihalland.se
DTSTART;TZID=Europe/Stockholm:20200120T180000
DTEND;TZID=Europe/Stockholm:20200120T180000
DTSTAMP:20200108T140602Z
URL:https://moderaternaihalland.se/events/studiebesok-halmstad/
SUMMARY:Studiebesök (Halmstad)
DESCRIPTION:Moderaterna i Halmstad anordnar studiebesök på "årets köpce
 ntrum"\, Hallarna.\n\nSamling vid hotellentrén kl. 17.55.\n\nDet bjuds p
 å fika.\n\nAnmälan senast 14 januari till Ann-Charlott Mankell
ATTACH;FMTTYPE=image/jpeg:https://moderaternaihalland.se/wp-content/upload
 s/2019/11/servitris.jpg
CATEGORIES:Halmstad
LOCATION:Hallarna\, Prästvägen\, Halmstad\, Sverige
X-APPLE-STRUCTURED-LOCATION;VALUE=URI;X-ADDRESS=Prästvägen\, Halmstad\, S
 verige;X-APPLE-RADIUS=100;X-TITLE=Hallarna:geo:0,0
END:VEVENT
BEGIN:VTIMEZONE
TZID:Europe/Stockholm
X-LIC-LOCATION:Europe/Stockholm
BEGIN:STANDARD
DTSTART:20191027T020000
TZOFFSETFROM:+0200
TZOFFSETTO:+0100
TZNAME:CET
END:STANDARD
END:VTIMEZONE
END:VCALENDAR