BEGIN:VCALENDAR
VERSION:2.0
PRODID:-//wp-events-plugin.com//7.2.3.1//EN
TZID:Europe/Stockholm
X-WR-TIMEZONE:Europe/Stockholm
BEGIN:VEVENT
UID:1269@moderaternaihalland.se
DTSTART;TZID=Europe/Stockholm:20211208T190000
DTEND;TZID=Europe/Stockholm:20211208T190000
DTSTAMP:20211117T105233Z
URL:https://moderaternaihalland.se/events/studiebesok-halmstad-3/
SUMMARY:Studiebesök (Halmstad)
DESCRIPTION:Moderaterna i Halmstad bjuder in till studiebesök med ölprovn
 ing på Halmstad Brygghus (se bilden ovan).\n\nVälkommen!
ATTACH;FMTTYPE=image/jpeg:https://moderaternaihalland.se/wp-content/upload
 s/2021/11/211208-Ölprovning.jpeg
CATEGORIES:Halmstad
LOCATION:Halmstad Brygghus\, Slottsmöllans Företagscenter\, Halmstad\, Sv
 erige
X-APPLE-STRUCTURED-LOCATION;VALUE=URI;X-ADDRESS=Slottsmöllans Företagscen
 ter\, Halmstad\, Sverige;X-APPLE-RADIUS=100;X-TITLE=Halmstad Brygghus:geo:
 0,0
END:VEVENT
BEGIN:VTIMEZONE
TZID:Europe/Stockholm
X-LIC-LOCATION:Europe/Stockholm
BEGIN:STANDARD
DTSTART:20211031T020000
TZOFFSETFROM:+0200
TZOFFSETTO:+0100
TZNAME:CET
END:STANDARD
END:VTIMEZONE
END:VCALENDAR