BEGIN:VCALENDAR
VERSION:2.0
PRODID:-//wp-events-plugin.com//7.2.3.1//EN
TZID:Europe/Stockholm
X-WR-TIMEZONE:Europe/Stockholm
BEGIN:VEVENT
UID:2313@moderaternaihalland.se
DTSTART;TZID=Europe/Stockholm:20230508T100000
DTEND;TZID=Europe/Stockholm:20230509T100000
DTSTAMP:20230414T100208Z
URL:https://moderaternaihalland.se/events/skolriksdagen-stockholm/
SUMMARY:Skolriksdagen (Stockholm)
DESCRIPTION:SKR arrangerar Skolriksdagen.
ATTACH;FMTTYPE=image/jpeg:https://moderaternaihalland.se/wp-content/upload
 s/2019/11/grönt-gräs-blå-himmel.jpg
CATEGORIES:SKL,Utbildning
END:VEVENT
BEGIN:VTIMEZONE
TZID:Europe/Stockholm
X-LIC-LOCATION:Europe/Stockholm
BEGIN:DAYLIGHT
DTSTART:20230326T030000
TZOFFSETFROM:+0100
TZOFFSETTO:+0200
TZNAME:CEST
END:DAYLIGHT
END:VTIMEZONE
END:VCALENDAR