BEGIN:VCALENDAR
VERSION:2.0
PRODID:-//wp-events-plugin.com//7.2.3.1//EN
TZID:Europe/Stockholm
X-WR-TIMEZONE:Europe/Stockholm
BEGIN:VEVENT
UID:533@moderaternaihalland.se
DTSTART;TZID=Europe/Stockholm:20200215T110000
DTEND;TZID=Europe/Stockholm:20200215T140000
DTSTAMP:20200124T094932Z
URL:https://moderaternaihalland.se/events/sammantradesteknik-laholm/
SUMMARY:Sammanträdesteknik (Laholm)
DESCRIPTION:Moderaterna i Laholm har en utbildning för sina medlemmar i sa
 mmanträdesteknik.
ATTACH;FMTTYPE=image/jpeg:https://moderaternaihalland.se/wp-content/upload
 s/2019/11/ordförandeklubba.jpg
CATEGORIES:Laholm,Utbildning
LOCATION:Hökagården\, Kustvägen 2\, Mellbystrand\, Sverige
X-APPLE-STRUCTURED-LOCATION;VALUE=URI;X-ADDRESS=Kustvägen 2\, Mellbystrand
 \, Sverige;X-APPLE-RADIUS=100;X-TITLE=Hökagården:geo:0,0
END:VEVENT
BEGIN:VTIMEZONE
TZID:Europe/Stockholm
X-LIC-LOCATION:Europe/Stockholm
BEGIN:STANDARD
DTSTART:20191027T020000
TZOFFSETFROM:+0200
TZOFFSETTO:+0100
TZNAME:CET
END:STANDARD
END:VTIMEZONE
END:VCALENDAR