BEGIN:VCALENDAR
VERSION:2.0
PRODID:-//wp-events-plugin.com//7.2.3.1//EN
TZID:Europe/Stockholm
X-WR-TIMEZONE:Europe/Stockholm
BEGIN:VEVENT
UID:70@moderaternaihalland.se
DTSTART;TZID=Europe/Stockholm:20201007T170000
DTEND;TZID=Europe/Stockholm:20201007T170000
DTSTAMP:20200929T140614Z
URL:https://moderaternaihalland.se/events/regiongruppmote-halmstad-4/
SUMMARY:Regiongruppmöte (Halmstad)
DESCRIPTION:Moderaternas regiongrupp har möte.
ATTACH;FMTTYPE=image/jpeg:https://moderaternaihalland.se/wp-content/upload
 s/2019/10/sjuksköterska-och-pensionär.jpg
CATEGORIES:Region Halland
LOCATION:Scandic Hallandia\, Rådhusgatan 4\, Halmstad\, Sverige
X-APPLE-STRUCTURED-LOCATION;VALUE=URI;X-ADDRESS=Rådhusgatan 4\, Halmstad\,
  Sverige;X-APPLE-RADIUS=100;X-TITLE=Scandic Hallandia:geo:0,0
END:VEVENT
BEGIN:VTIMEZONE
TZID:Europe/Stockholm
X-LIC-LOCATION:Europe/Stockholm
BEGIN:DAYLIGHT
DTSTART:20200329T030000
TZOFFSETFROM:+0100
TZOFFSETTO:+0200
TZNAME:CEST
END:DAYLIGHT
END:VTIMEZONE
END:VCALENDAR