BEGIN:VCALENDAR
VERSION:2.0
PRODID:-//wp-events-plugin.com//7.2.3.1//EN
TZID:Europe/Stockholm
X-WR-TIMEZONE:Europe/Stockholm
BEGIN:VEVENT
UID:1275@moderaternaihalland.se
DTSTART;TZID=Europe/Stockholm:20220407T173000
DTEND;TZID=Europe/Stockholm:20220407T193000
DTSTAMP:20220404T092357Z
URL:https://moderaternaihalland.se/events/regiongruppmote-falkenberg/
SUMMARY:Regiongruppmöte (Falkenberg)
DESCRIPTION:Moderaternas regiongrupp har möte tillsammans med Alliansen.\n
 \n\n
ATTACH;FMTTYPE=image/jpeg:https://moderaternaihalland.se/wp-content/upload
 s/2019/10/sjuksköterska-och-pensionär.jpg
CATEGORIES:Region Halland
LOCATION:Murtans konferens\, Holgersgatan 15\, Falkenberg\, Sverige
X-APPLE-STRUCTURED-LOCATION;VALUE=URI;X-ADDRESS=Holgersgatan 15\, Falkenber
 g\, Sverige;X-APPLE-RADIUS=100;X-TITLE=Murtans konferens:geo:0,0
END:VEVENT
BEGIN:VTIMEZONE
TZID:Europe/Stockholm
X-LIC-LOCATION:Europe/Stockholm
BEGIN:DAYLIGHT
DTSTART:20220327T030000
TZOFFSETFROM:+0100
TZOFFSETTO:+0200
TZNAME:CEST
END:DAYLIGHT
END:VTIMEZONE
END:VCALENDAR