BEGIN:VCALENDAR
VERSION:2.0
PRODID:-//wp-events-plugin.com//7.2.3.1//EN
TZID:Europe/Stockholm
X-WR-TIMEZONE:Europe/Stockholm
BEGIN:VEVENT
UID:1266@moderaternaihalland.se
DTSTART;TZID=Europe/Stockholm:20221214T100000
DTEND;TZID=Europe/Stockholm:20221214T100000
DTSTAMP:20211122T144041Z
URL:https://moderaternaihalland.se/events/regionfullmaktige-halmstad-12/
SUMMARY:Regionfullmäktige (Halmstad)
DESCRIPTION:Regionfullmäktige har sammanträde.
ATTACH;FMTTYPE=image/jpeg:https://moderaternaihalland.se/wp-content/upload
 s/2019/10/sjuksköterska-och-pensionär.jpg
CATEGORIES:Region Halland
LOCATION:Hallands Sjukhus (Halmstad)\, Lasarettsvägen\, Halmstad\, Sverige
X-APPLE-STRUCTURED-LOCATION;VALUE=URI;X-ADDRESS=Lasarettsvägen\, Halmstad\
 , Sverige;X-APPLE-RADIUS=100;X-TITLE=Hallands Sjukhus (Halmstad):geo:0,0
END:VEVENT
BEGIN:VTIMEZONE
TZID:Europe/Stockholm
X-LIC-LOCATION:Europe/Stockholm
BEGIN:STANDARD
DTSTART:20221030T020000
TZOFFSETFROM:+0200
TZOFFSETTO:+0100
TZNAME:CET
END:STANDARD
END:VTIMEZONE
END:VCALENDAR