BEGIN:VCALENDAR
VERSION:2.0
PRODID:-//wp-events-plugin.com//7.2.3.1//EN
TZID:Europe/Stockholm
X-WR-TIMEZONE:Europe/Stockholm
BEGIN:VEVENT
UID:3559@moderaternaihalland.se
DTSTART;TZID=Europe/Stockholm;VALUE=DATE:20260827
DTEND;TZID=Europe/Stockholm;VALUE=DATE:20260828
DTSTAMP:20230413T095112Z
URL:https://moderaternaihalland.se/events/raoul-wallenbergs-dag-2026-08-27
 /
SUMMARY:Raoul Wallenbergs dag
DESCRIPTION:Den 27 augusti firas Raoul Wallenbergs dag\, Sveriges nationell
 a dag för civilkurage och medmänsklighet. Syftet är att belysa och disk
 utera aktuella frågor som rör mänskliga rättigheter\, vikten av person
 ligt ansvar och möjligheten för en enskild människa att göra skillnad.
ATTACH;FMTTYPE=image/jpeg:https://moderaternaihalland.se/wp-content/upload
 s/2019/10/FN.jpg
CATEGORIES:FN,Internationellt,Kampanj
END:VEVENT
BEGIN:VTIMEZONE
TZID:Europe/Stockholm
X-LIC-LOCATION:Europe/Stockholm
BEGIN:DAYLIGHT
DTSTART:20260329T030000
TZOFFSETFROM:+0100
TZOFFSETTO:+0200
TZNAME:CEST
END:DAYLIGHT
END:VTIMEZONE
END:VCALENDAR