BEGIN:VCALENDAR
VERSION:2.0
PRODID:-//wp-events-plugin.com//7.2.3.1//EN
TZID:Europe/Stockholm
X-WR-TIMEZONE:Europe/Stockholm
BEGIN:VEVENT
UID:1046@moderaternaihalland.se
DTSTART;TZID=Europe/Stockholm:20210917T090000
DTEND;TZID=Europe/Stockholm:20210917T120000
DTSTAMP:20210819T083706Z
URL:https://moderaternaihalland.se/events/radskonferens-digitalt/
SUMMARY:Rådskonferens (digitalt)
DESCRIPTION:Moderaterna bjuder in kommunalråd\, regionråd och gruppledare
  till Rådskonferens.
ATTACH;FMTTYPE=image/jpeg:https://moderaternaihalland.se/wp-content/upload
 s/2019/10/Jamstalldhet.jpg
CATEGORIES:Riksorganisationen,Utbildning
END:VEVENT
BEGIN:VTIMEZONE
TZID:Europe/Stockholm
X-LIC-LOCATION:Europe/Stockholm
BEGIN:DAYLIGHT
DTSTART:20210328T030000
TZOFFSETFROM:+0100
TZOFFSETTO:+0200
TZNAME:CEST
END:DAYLIGHT
END:VTIMEZONE
END:VCALENDAR