BEGIN:VCALENDAR
VERSION:2.0
PRODID:-//wp-events-plugin.com//7.2.3.1//EN
TZID:Europe/Stockholm
X-WR-TIMEZONE:Europe/Stockholm
BEGIN:VEVENT
UID:1630@moderaternaihalland.se
DTSTART;TZID=Europe/Stockholm:20231019T100000
DTEND;TZID=Europe/Stockholm:20231022T100000
DTSTAMP:20230130T133431Z
URL:https://moderaternaihalland.se/events/partistamma-umea/
SUMMARY:Partistämma (Umeå)
DESCRIPTION:Moderaterna har partistämma.\n\nMotioner ska vara partistyrels
 en tillhanda senast den 11 juni 2023.
ATTACH;FMTTYPE=image/jpeg:https://moderaternaihalland.se/wp-content/upload
 s/2019/10/skolan_0.jpg
CATEGORIES:Riksorganisationen
LOCATION:Umeå Folkets Hus\, Vasaplan\, Skolgatan 59\, Umeå\, Sverige
X-APPLE-STRUCTURED-LOCATION;VALUE=URI;X-ADDRESS=Vasaplan\, Skolgatan 59\, U
 meå\, Sverige;X-APPLE-RADIUS=100;X-TITLE=Umeå Folkets Hus:geo:0,0
END:VEVENT
BEGIN:VTIMEZONE
TZID:Europe/Stockholm
X-LIC-LOCATION:Europe/Stockholm
BEGIN:DAYLIGHT
DTSTART:20230326T030000
TZOFFSETFROM:+0100
TZOFFSETTO:+0200
TZNAME:CEST
END:DAYLIGHT
END:VTIMEZONE
END:VCALENDAR