BEGIN:VCALENDAR
VERSION:2.0
PRODID:-//wp-events-plugin.com//7.2.3.1//EN
TZID:Europe/Stockholm
X-WR-TIMEZONE:Europe/Stockholm
BEGIN:VEVENT
UID:504@moderaternaihalland.se
DTSTART;TZID=Europe/Stockholm;VALUE=DATE:20200124
DTEND;TZID=Europe/Stockholm;VALUE=DATE:20200125
DTSTAMP:20191220T140040Z
URL:https://moderaternaihalland.se/events/paminnelse-om-medlemsavgiften/
SUMMARY:Påminnelse om medlemsavgiften
DESCRIPTION:En påminnelse om medlemsavgiften 2020 skickas till de medlemma
 r som ännu inte betalat årets medlemsavgift.
ATTACH;FMTTYPE=image/jpeg:https://moderaternaihalland.se/wp-content/upload
 s/2019/12/Logo-halland-ny.png
CATEGORIES:Riksorganisationen
END:VEVENT
BEGIN:VTIMEZONE
TZID:Europe/Stockholm
X-LIC-LOCATION:Europe/Stockholm
BEGIN:STANDARD
DTSTART:20191027T020000
TZOFFSETFROM:+0200
TZOFFSETTO:+0100
TZNAME:CET
END:STANDARD
END:VTIMEZONE
END:VCALENDAR