BEGIN:VCALENDAR
VERSION:2.0
PRODID:-//wp-events-plugin.com//7.2.3.1//EN
TZID:Europe/Stockholm
X-WR-TIMEZONE:Europe/Stockholm
BEGIN:VEVENT
UID:535@moderaternaihalland.se
DTSTART;TZID=Europe/Stockholm:20200225T180000
DTEND;TZID=Europe/Stockholm:20200225T200000
DTSTAMP:20200131T134145Z
URL:https://moderaternaihalland.se/events/nymedlemsutbildning-halmstad/
SUMMARY:Nymedlemsutbildning (Halmstad)
DESCRIPTION:Välkommen till utbildningen\, Ny i Moderaterna\n\nPlats: Medbo
 rgarskolans lokaler\, Söndrumsvägen 35\, Sal: Sjöstjärnan\nTid: Tisdag
 en den 25 Februari\, kl: 18.00-20.00\n\nHalmstadföreningen bjuder på enk
 lare förtäring. Matiga baguetter med läsk\, kaffe.\n\nVi tror att du so
 m är ny i moderaterna och som vill arbeta politiskt eller du som redan ar
 betar politiskt och vill veta mer har glädje av att läsa detta.\n\nKommu
 nfullmäktiges ordförande Andreas Bergman håller i taktpinnen och erbjud
 er en kväll med smakprov på följande tre perspektiv\n\n- Så här funge
 rar Halmstads kommun – vilka nämnder finns och vad jobbar de med och in
 te minst hur jobbar en politiker i en nämnd?\n\n- Rollen som förtroendev
 ald – detta kan vara bra att tänka på för att vinna förtroende hos v
 äljarna!\n\n- Föreningen och den moderata kommunfullmäktigegruppen – 
 hur fungerar det och vad gör den?\n\nAnmälan senast 23 februari till and
 reas.bergman@gmail.com\n\nVarmt välkomna!
ATTACH;FMTTYPE=image/jpeg:https://moderaternaihalland.se/wp-content/upload
 s/2019/10/Jamstalldhet.jpg
CATEGORIES:Halmstad,Utbildning
LOCATION:Medborgarskolan (Halmstad)\, Söndrumsvägen 35\, Halmstad\, Sveri
 ge
X-APPLE-STRUCTURED-LOCATION;VALUE=URI;X-ADDRESS=Söndrumsvägen 35\, Halmst
 ad\, Sverige;X-APPLE-RADIUS=100;X-TITLE=Medborgarskolan (Halmstad):geo:0,0
END:VEVENT
BEGIN:VTIMEZONE
TZID:Europe/Stockholm
X-LIC-LOCATION:Europe/Stockholm
BEGIN:STANDARD
DTSTART:20191027T020000
TZOFFSETFROM:+0200
TZOFFSETTO:+0100
TZNAME:CET
END:STANDARD
END:VTIMEZONE
END:VCALENDAR