BEGIN:VCALENDAR
VERSION:2.0
PRODID:-//wp-events-plugin.com//7.2.3.1//EN
TZID:Europe/Stockholm
X-WR-TIMEZONE:Europe/Stockholm
BEGIN:VEVENT
UID:3655@moderaternaihalland.se
DTSTART;TZID=Europe/Stockholm:20240202T130000
DTEND;TZID=Europe/Stockholm:20240204T130000
DTSTAMP:20230524T125432Z
URL:https://moderaternaihalland.se/events/nationell-spetsutbildning-2-4-st
 ockholm-2/
SUMMARY:Nationell spetsutbildning 2/4 (Stockholm)
DESCRIPTION:Del 2 av den nationella spetsutbildningen.
ATTACH;FMTTYPE=image/jpeg:https://moderaternaihalland.se/wp-content/upload
 s/2019/11/grönt-gräs-blå-himmel.jpg
CATEGORIES:Riksorganisationen,Utbildning
LOCATION:Elite Palace Hotel (Stockholm)\, Sankt Eriksgatan 115\, Stockholm\
 , Sverige
X-APPLE-STRUCTURED-LOCATION;VALUE=URI;X-ADDRESS=Sankt Eriksgatan 115\, Stoc
 kholm\, Sverige;X-APPLE-RADIUS=100;X-TITLE=Elite Palace Hotel (Stockholm):
 geo:0,0
END:VEVENT
BEGIN:VTIMEZONE
TZID:Europe/Stockholm
X-LIC-LOCATION:Europe/Stockholm
BEGIN:STANDARD
DTSTART:20231029T020000
TZOFFSETFROM:+0200
TZOFFSETTO:+0100
TZNAME:CET
END:STANDARD
END:VTIMEZONE
END:VCALENDAR