BEGIN:VCALENDAR
VERSION:2.0
PRODID:-//wp-events-plugin.com//7.2.3.1//EN
TZID:Europe/Stockholm
X-WR-TIMEZONE:Europe/Stockholm
BEGIN:VEVENT
UID:492@moderaternaihalland.se
DTSTART;TZID=Europe/Stockholm:20200125T090000
DTEND;TZID=Europe/Stockholm:20200126T090000
DTSTAMP:20191213T143942Z
URL:https://moderaternaihalland.se/events/mufs-distriktsstamma-halmstad/
SUMMARY:MUF:s distriktsstämma (Halmstad)
DESCRIPTION:Härmed kallar Moderata Ungdomsförbundet i Halland dig som med
 lem till distriktsstämma 2019.\n\nMUF Halland är större än vi någonsi
 n varit i modern tid. Efter ett fantastiskt år samlas vi nu ännu en gån
 g för distriktsstämma där vi ska klubba mer politik\, träffa nya vänn
 er och ha en fantastiskt rolig helg. Välkommen till MUF Halland - välkom
 men hem!\nTid och plats\nDistriktsstämman kommer avhållas på Scandic Ha
 llandia i Halmstad helgen den 25-26 januari. Registrering sker från klock
 an 09:00 lördagen den 25:e. Stämman öppnas klockan 10:00 samma dag. St
 ämmans förhandlingar avslutas på söndagen den 26:e senast klockan 14:0
 0.\nAnmälan\nSista anmälningsdagen är satt till den 11:e januari. Delta
 garavgiften ska vara betald senast den 11:e.\n\nAnmälan är komplett för
 st då stämmoavgiften är insatt på MUF-Hallands bankgiro: 293-5146 elle
 r Swish: 123 351 66 22. Ange DST20 och ditt för-och efternamn\, samt vilk
 en nivå på deltagande du valt. Du finner mer information om de olika niv
 åerna i anmälningsformuläret.\n\nAnmälan görs på följande länk:\nh
 ttps://docs.google.com/forms/d/1K8-lrwewMLJyuONMu5uYZCWXWulYkJgUGzFKsnRwJn
 0/edit\n\nOBS! Observera att anmälan är bindande. Vid anmälan utan delt
 agande kommer den fulla kostnaden att faktureras.\nMotioner\nVill du väck
 a en motion till stämman så skickar du den till distriktsstyrelsen genom
  Sten Candell på stencandell97@gmail.com. Senast den 10:de januari. Handl
 ingar till stämman kommer finnas tillgängliga senast den 19:de januari.\
 nKandidaturer och nomineringar\nKandidaturer och nomineringar skickas till
  valberedningens sammankallande\, Lina Ingvarsson\, på Linaingvarsson@hot
 mail.se senast den 4:de januari. Vid frågor kring valberedningens arbete 
 kontaktas Lina Ingvarsson via telefon på +447907728034.\n\nYtterligare fr
 ågor och funderingar\nVid ytterligare frågor eller funderingar ombeds du
  kontakta en av följande:\nStämmogeneraler\nVid frågor kring anmälan\,
  hotell och praktiska funderingar kontakta:\nAmina Krcic\n0704825418\nAmin
 akrcic@gmail.com\n\nVid frågor kring röstkort\, handlingar och motioner 
 m.m kontakta:\nSten Candell\n0761778681\nstencandell97@gmail.com
ATTACH;FMTTYPE=image/jpeg:https://moderaternaihalland.se/wp-content/upload
 s/2019/10/muf-logo.jpg
CATEGORIES:MUF
LOCATION:Scandic Hallandia\, Rådhusgatan 4\, Halmstad\, Sverige
X-APPLE-STRUCTURED-LOCATION;VALUE=URI;X-ADDRESS=Rådhusgatan 4\, Halmstad\,
  Sverige;X-APPLE-RADIUS=100;X-TITLE=Scandic Hallandia:geo:0,0
END:VEVENT
BEGIN:VTIMEZONE
TZID:Europe/Stockholm
X-LIC-LOCATION:Europe/Stockholm
BEGIN:STANDARD
DTSTART:20191027T020000
TZOFFSETFROM:+0200
TZOFFSETTO:+0100
TZNAME:CET
END:STANDARD
END:VTIMEZONE
END:VCALENDAR