BEGIN:VCALENDAR
VERSION:2.0
PRODID:-//wp-events-plugin.com//7.2.3.1//EN
TZID:Europe/Stockholm
X-WR-TIMEZONE:Europe/Stockholm
BEGIN:VEVENT
UID:1026@moderaternaihalland.se
DTSTART;TZID=Europe/Stockholm:20210924T120000
DTEND;TZID=Europe/Stockholm:20210925T120000
DTSTAMP:20210818T091809Z
URL:https://moderaternaihalland.se/events/moderata-seniorers-arsstamma/
SUMMARY:Moderata Seniorers årsstämma
DESCRIPTION:Moderata Seniorer har årsstämma.
ATTACH;FMTTYPE=image/jpeg:https://moderaternaihalland.se/wp-content/upload
 s/2019/10/miljö.jpg
CATEGORIES:MSS
LOCATION:Scandic Frimurarehotellet (Linköping)\, Sankt Larsgatan 14\, Link
 öping\, Sverige
X-APPLE-STRUCTURED-LOCATION;VALUE=URI;X-ADDRESS=Sankt Larsgatan 14\, Linkö
 ping\, Sverige;X-APPLE-RADIUS=100;X-TITLE=Scandic Frimurarehotellet (Link
 öping):geo:0,0
END:VEVENT
BEGIN:VTIMEZONE
TZID:Europe/Stockholm
X-LIC-LOCATION:Europe/Stockholm
BEGIN:DAYLIGHT
DTSTART:20210328T030000
TZOFFSETFROM:+0100
TZOFFSETTO:+0200
TZNAME:CEST
END:DAYLIGHT
END:VTIMEZONE
END:VCALENDAR