BEGIN:VCALENDAR
VERSION:2.0
PRODID:-//wp-events-plugin.com//7.2.3.1//EN
TZID:Europe/Stockholm
X-WR-TIMEZONE:Europe/Stockholm
BEGIN:VEVENT
UID:1602@moderaternaihalland.se
DTSTART;TZID=Europe/Stockholm:20220607T180000
DTEND;TZID=Europe/Stockholm:20220607T180000
DTSTAMP:20220504T131116Z
URL:https://moderaternaihalland.se/events/medlemsmote-varberg-6/
SUMMARY:Medlemsmöte (Varberg)
DESCRIPTION:Moderaterna i Varberg har medlemsmöte.\n\nWorkshop del 2 med V
 alvinnarverkstan\n\nDel två i vår valworkshop med Valvinnarverkstan geno
 mförs tisdagen den 7 juni kl 18.00 och start med en gemensam kvällsbuff
 é på Hotell Fregatten. Vi slutför arbetet med vårt lokala valprogram. 
 Öppet för alla medlemmar och särskilt välkomna är de som deltog i fö
 rsta delen i mars. Slut ca 21 - 21.30 beroende på tidsåtgången.\n\nAnm
 älan är kostnadsfri men anmälan till varberg@moderaterna.se senast den 
 3 juni.\n\nVälkommen!
ATTACH;FMTTYPE=image/jpeg:https://moderaternaihalland.se/wp-content/upload
 s/2019/11/grusväg-som-delar-sig.jpg
CATEGORIES:Varberg
LOCATION:Hotell Fregatten\, Skeppsgatan\, Hamnplan 6\, Varberg\, Sverige
X-APPLE-STRUCTURED-LOCATION;VALUE=URI;X-ADDRESS=Skeppsgatan\, Hamnplan 6\, 
 Varberg\, Sverige;X-APPLE-RADIUS=100;X-TITLE=Hotell Fregatten:geo:0,0
END:VEVENT
BEGIN:VTIMEZONE
TZID:Europe/Stockholm
X-LIC-LOCATION:Europe/Stockholm
BEGIN:DAYLIGHT
DTSTART:20220327T030000
TZOFFSETFROM:+0100
TZOFFSETTO:+0200
TZNAME:CEST
END:DAYLIGHT
END:VTIMEZONE
END:VCALENDAR