BEGIN:VCALENDAR
VERSION:2.0
PRODID:-//wp-events-plugin.com//7.2.3.1//EN
TZID:Europe/Stockholm
X-WR-TIMEZONE:Europe/Stockholm
BEGIN:VEVENT
UID:410@moderaternaihalland.se
DTSTART;TZID=Europe/Stockholm:20191209T180000
DTEND;TZID=Europe/Stockholm:20191209T180000
DTSTAMP:20191122T115558Z
URL:https://moderaternaihalland.se/events/medlemsmote-med-julbord-varberg/
SUMMARY:Medlemsmöte med julbord (Varberg)
DESCRIPTION:Moderaterna i Varberg har medlemsmöte med julbord.\n\nVi träf
 fas\, umgås och äter ett klassiskt julbord tillsammans.\nLucia besöker 
 oss kl. 20.00. Det blir lotteri med fina priser.\n\nModeraterna i Hallands
  nya partiombudsman\, Peter Hemgard\, besöker oss för en presentation. D
 ärefter kommer det att finnas möjlighet att diskutera och summera året 
 som gått\, tillsammans med framtida möjligheter och utmaningar för Mode
 raterna och Varberg.\n\nKostnad: 100 kr/person\n\nAnmälan senast den 2 de
 cember till Hanna Netterberg (070-551 14 65).\n\nVälkommen!
ATTACH;FMTTYPE=image/jpeg:https://moderaternaihalland.se/wp-content/upload
 s/2019/11/glögg-och-pepparkakor.jpg
CATEGORIES:Varberg
LOCATION:Restaurang Västerport\, Otto Torells gata\, Varberg\, Sverige
X-APPLE-STRUCTURED-LOCATION;VALUE=URI;X-ADDRESS=Otto Torells gata\, Varberg
 \, Sverige;X-APPLE-RADIUS=100;X-TITLE=Restaurang Västerport:geo:0,0
END:VEVENT
BEGIN:VTIMEZONE
TZID:Europe/Stockholm
X-LIC-LOCATION:Europe/Stockholm
BEGIN:STANDARD
DTSTART:20191027T020000
TZOFFSETFROM:+0200
TZOFFSETTO:+0100
TZNAME:CET
END:STANDARD
END:VTIMEZONE
END:VCALENDAR