BEGIN:VCALENDAR
VERSION:2.0
PRODID:-//wp-events-plugin.com//7.2.3.1//EN
TZID:Europe/Stockholm
X-WR-TIMEZONE:Europe/Stockholm
BEGIN:VEVENT
UID:560@moderaternaihalland.se
DTSTART;TZID=Europe/Stockholm:20201019T183000
DTEND;TZID=Europe/Stockholm:20201019T183000
DTSTAMP:20200228T095011Z
URL:https://moderaternaihalland.se/events/medlemsmote-hylte-3/
SUMMARY:Medlemsmöte (Hylte)
DESCRIPTION:Moderaterna i Hylte bjuder in till medlemsmöte.\n\nAvsikten me
 d mötet är att diskutera politiska frågor\, särskilt i Hylte kommun oc
 h vi utgår från kommunfullmäktiges dagordning.
ATTACH;FMTTYPE=image/jpeg:https://moderaternaihalland.se/wp-content/upload
 s/2019/10/miljö.jpg
CATEGORIES:Hylte
LOCATION:Hörsalen (Hylte bibliotek)\, Fabriksgatan 1A\, Hyltebruk\, Sverig
 e
X-APPLE-STRUCTURED-LOCATION;VALUE=URI;X-ADDRESS=Fabriksgatan 1A\, Hyltebruk
 \, Sverige;X-APPLE-RADIUS=100;X-TITLE=Hörsalen (Hylte bibliotek):geo:0,0
END:VEVENT
BEGIN:VTIMEZONE
TZID:Europe/Stockholm
X-LIC-LOCATION:Europe/Stockholm
BEGIN:DAYLIGHT
DTSTART:20200329T030000
TZOFFSETFROM:+0100
TZOFFSETTO:+0200
TZNAME:CEST
END:DAYLIGHT
END:VTIMEZONE
END:VCALENDAR