BEGIN:VCALENDAR
VERSION:2.0
PRODID:-//wp-events-plugin.com//7.2.3.1//EN
TZID:Europe/Stockholm
X-WR-TIMEZONE:Europe/Stockholm
BEGIN:VEVENT
UID:585@moderaternaihalland.se
DTSTART;TZID=Europe/Stockholm:20200610T170000
DTEND;TZID=Europe/Stockholm:20200610T173000
DTSTAMP:20200519T112518Z
URL:https://moderaternaihalland.se/events/medlemskvall-med-ulf-kristersson
 /
SUMMARY:Medlemskväll med Ulf Kristersson
DESCRIPTION:Den 10 juni kl. 17.00 har Moderaterna i Halland och Moderaterna
  i Västra Götaland en gemensam livesänd digital medlemskväll med Ulf K
 ristersson.\n\nEn länk till den digitala medlemsvällen har skickats geno
 m nyhetsbrevet till medlemmar i Moderaterna i Halland. Har du inte fått i
 nbjudan? Maila oss på halland@moderaterna.se\nVärvartävling\nVårt mål
  är att varje förening värvar eller återvärvar i snitt 4 medlemmar ti
 ll den 10 juni. Du kan göra en viktig uppgift för Moderaterna bara genom
  att ställa frågan till någon du känner om hon/han skulle kunna tänka
  sig att bli medlem.\n\nDe två (en partimedlem och en MUF-medlem) som vä
 rvat/återvärvat flest medlemmar kommer båda att få möjligheten att st
 älla en fråga direkt till Ulf i livesändning.\n\nPå denna länk kan du
  rapportera in dina värvningar och delta i tävlingen. Notera därför na
 mnen på de personer som du bjuder in och som väljer att bli medlemmar i 
 Moderaterna. Rapportera in alla dina värvningar samtidigt\, dock senast d
 en 8 juni.\n\n[gdlr_button href="https://docs.google.com/forms/d/e/1FAIpQL
 ScKS2zITNglYQcaqZHSyOX_Ty6suDmlLmacfdaceLO9Ip3NBA/viewform?usp=sf_link" ta
 rget="_self" size="medium" background="#3D506D" color="#ffffff"]Länk för
  rapportering av värvningar (senast 8/6)[/gdlr_button]\n\nVälkommen!\n\n
 &nbsp\;
ATTACH;FMTTYPE=image/jpeg:https://moderaternaihalland.se/wp-content/upload
 s/2020/05/200610-Ulf-MVG-talks-scaled.jpg
CATEGORIES:Halland,Utbildning
END:VEVENT
BEGIN:VTIMEZONE
TZID:Europe/Stockholm
X-LIC-LOCATION:Europe/Stockholm
BEGIN:DAYLIGHT
DTSTART:20200329T030000
TZOFFSETFROM:+0100
TZOFFSETTO:+0200
TZNAME:CEST
END:DAYLIGHT
END:VTIMEZONE
END:VCALENDAR