BEGIN:VCALENDAR
VERSION:2.0
PRODID:-//wp-events-plugin.com//7.2.3.1//EN
TZID:Europe/Stockholm
X-WR-TIMEZONE:Europe/Stockholm
BEGIN:VEVENT
UID:632@moderaternaihalland.se
DTSTART;TZID=Europe/Stockholm:20201116T180000
DTEND;TZID=Europe/Stockholm:20201116T200000
DTSTAMP:20201012T125820Z
URL:https://moderaternaihalland.se/events/lokal-spetsutbildning-kungsbacka
 -2/
SUMMARY:Lokal spetsutbildning (Kungsbacka)
DESCRIPTION:Moderaterna i Kungsbacka och Varberg har en lokal spetsutbildni
 ng.
ATTACH;FMTTYPE=image/jpeg:https://moderaternaihalland.se/wp-content/upload
 s/2019/10/skolan_0.jpg
CATEGORIES:Kungsbacka,Utbildning,Varberg
LOCATION:Stadshuset (Kungsbacka)\, Storgatan 37\, Kungsbacka\, Sverige
X-APPLE-STRUCTURED-LOCATION;VALUE=URI;X-ADDRESS=Storgatan 37\, Kungsbacka\,
  Sverige;X-APPLE-RADIUS=100;X-TITLE=Stadshuset (Kungsbacka):geo:0,0
END:VEVENT
BEGIN:VTIMEZONE
TZID:Europe/Stockholm
X-LIC-LOCATION:Europe/Stockholm
BEGIN:STANDARD
DTSTART:20201025T020000
TZOFFSETFROM:+0200
TZOFFSETTO:+0100
TZNAME:CET
END:STANDARD
END:VTIMEZONE
END:VCALENDAR