BEGIN:VCALENDAR
VERSION:2.0
PRODID:-//wp-events-plugin.com//7.2.3.1//EN
TZID:Europe/Stockholm
X-WR-TIMEZONE:Europe/Stockholm
BEGIN:VEVENT
UID:138@moderaternaihalland.se
DTSTART;TZID=Europe/Stockholm:20201222T183000
DTEND;TZID=Europe/Stockholm:20201222T183000
DTSTAMP:20201207T151555Z
URL:https://moderaternaihalland.se/events/kommunfullmaktige-laholm-2020-12
 -29/
SUMMARY:Kommunfullmäktige (Laholm)
DESCRIPTION:Kommunfullmäktigemöte i Laholm.
ATTACH;FMTTYPE=image/jpeg:https://moderaternaihalland.se/wp-content/upload
 s/2019/10/Inläggsbild-65.jpg
CATEGORIES:Laholm
END:VEVENT
BEGIN:VTIMEZONE
TZID:Europe/Stockholm
X-LIC-LOCATION:Europe/Stockholm
BEGIN:STANDARD
DTSTART:20201025T020000
TZOFFSETFROM:+0200
TZOFFSETTO:+0100
TZNAME:CET
END:STANDARD
END:VTIMEZONE
END:VCALENDAR