BEGIN:VCALENDAR
VERSION:2.0
PRODID:-//wp-events-plugin.com//7.2.3.1//EN
TZID:Europe/Stockholm
X-WR-TIMEZONE:Europe/Stockholm
BEGIN:VEVENT
UID:562@moderaternaihalland.se
DTSTART;TZID=Europe/Stockholm:20200415T180000
DTEND;TZID=Europe/Stockholm:20200415T180000
DTSTAMP:20200228T125331Z
URL:https://moderaternaihalland.se/events/klimatsamtal-halmstad/
SUMMARY:Klimatsamtal (Halmstad)
DESCRIPTION:Jonas Bergman (M) berättar om Moderaternas vision för ett kli
 matneutralt Halmstads kommun 2030. Vad vill Moderaterna göra fram till 20
 30 för att ställa om samhället till en mer långsiktigt hållbar utveck
 ling?\n\nOla Nilsson (MP) berättar om Miljöpartiets vision för ett klim
 atneutralt Halmstads kommun 2030. Vad vill Miljöpartiet göra fram till 2
 030 för att ställa om samhället till en mer långsiktigt hållbar utvec
 kling?\n\nSamtalet ingår i programserien ”Klimatet &amp\; vi”.\n\nFri
  entré. Ingen föranmälan.\n\nArrangörer: Biblioteken i Halmstad\, Hall
 andsposten\, Naturskyddsföreningen i Halmstad\, Studiefrämjandet\, ABF H
 alland\, Laholmsbuktens havsnätverk\, Klimataktion Halmstad\, Högskolan 
 i Halmstad\, Länsstyrelsen Halland\, Länsförsäkringar Halland.
ATTACH;FMTTYPE=image/jpeg:https://moderaternaihalland.se/wp-content/upload
 s/2019/11/Jonas-Bergman-3.jpg
CATEGORIES:Halmstad,Kampanj
LOCATION:Biblioteken (Halmstad)\, Axel Olssons Gata 1\, Halmstad\, Sverige
X-APPLE-STRUCTURED-LOCATION;VALUE=URI;X-ADDRESS=Axel Olssons Gata 1\, Halms
 tad\, Sverige;X-APPLE-RADIUS=100;X-TITLE=Biblioteken (Halmstad):geo:0,0
END:VEVENT
BEGIN:VTIMEZONE
TZID:Europe/Stockholm
X-LIC-LOCATION:Europe/Stockholm
BEGIN:DAYLIGHT
DTSTART:20200329T030000
TZOFFSETFROM:+0100
TZOFFSETTO:+0200
TZNAME:CEST
END:DAYLIGHT
END:VTIMEZONE
END:VCALENDAR