BEGIN:VCALENDAR
VERSION:2.0
PRODID:-//wp-events-plugin.com//7.2.3.1//EN
TZID:Europe/Stockholm
X-WR-TIMEZONE:Europe/Stockholm
BEGIN:VEVENT
UID:1420@moderaternaihalland.se
DTSTART;TZID=Europe/Stockholm:20211128T150000
DTEND;TZID=Europe/Stockholm:20211128T180000
DTSTAMP:20211125T152612Z
URL:https://moderaternaihalland.se/events/kampanj-halmstad/
SUMMARY:Kampanj (Halmstad)
DESCRIPTION:Söndagen den 28/11 är det julskyltning i Halmstad City och vi
  moderater kommer samlas för kampanj.\n\nVi börjar kl. 15.00 och håller
  på till kl. 18.00 som längst.\n\nVi möter Halmstadborna med glögg\, p
 epparkakor och samtal samt utdelning av lokalt material.\n\nKommer finnas 
 reflexvästar och blå tomteluvor så att vi syns.\n\nVarmt välkomna!
ATTACH;FMTTYPE=image/jpeg:https://moderaternaihalland.se/wp-content/upload
 s/2019/11/glögg-och-pepparkakor.jpg
CATEGORIES:Halmstad,Kampanj,Val 2022
LOCATION:Halmstad\, Centrum\, Halmstad\, Sverige
X-APPLE-STRUCTURED-LOCATION;VALUE=URI;X-ADDRESS=Centrum\, Halmstad\, Sverig
 e;X-APPLE-RADIUS=100;X-TITLE=Halmstad:geo:0,0
END:VEVENT
BEGIN:VTIMEZONE
TZID:Europe/Stockholm
X-LIC-LOCATION:Europe/Stockholm
BEGIN:STANDARD
DTSTART:20211031T020000
TZOFFSETFROM:+0200
TZOFFSETTO:+0100
TZNAME:CET
END:STANDARD
END:VTIMEZONE
END:VCALENDAR