BEGIN:VCALENDAR
VERSION:2.0
PRODID:-//wp-events-plugin.com//7.2.3.1//EN
TZID:Europe/Stockholm
X-WR-TIMEZONE:Europe/Stockholm
BEGIN:VEVENT
UID:3624@moderaternaihalland.se
DTSTART;TZID=Europe/Stockholm;VALUE=DATE:20261116
DTEND;TZID=Europe/Stockholm;VALUE=DATE:20261117
DTSTAMP:20230413T115829Z
URL:https://moderaternaihalland.se/events/internationella-dagen-for-tolera
 ns-2026-11-16/
SUMMARY:Internationella dagen för tolerans
DESCRIPTION:Internationella dagen för tolerans är en FN-dag.
ATTACH;FMTTYPE=image/jpeg:https://moderaternaihalland.se/wp-content/upload
 s/2019/10/FN.jpg
CATEGORIES:FN,Internationellt,Kampanj
END:VEVENT
BEGIN:VTIMEZONE
TZID:Europe/Stockholm
X-LIC-LOCATION:Europe/Stockholm
BEGIN:STANDARD
DTSTART:20261025T020000
TZOFFSETFROM:+0200
TZOFFSETTO:+0100
TZNAME:CET
END:STANDARD
END:VTIMEZONE
END:VCALENDAR