BEGIN:VCALENDAR
VERSION:2.0
PRODID:-//wp-events-plugin.com//7.2.3.1//EN
TZID:Europe/Stockholm
X-WR-TIMEZONE:Europe/Stockholm
BEGIN:VEVENT
UID:594@moderaternaihalland.se
DTSTART;TZID=Europe/Stockholm;VALUE=DATE:20201005
DTEND;TZID=Europe/Stockholm;VALUE=DATE:20201026
DTSTAMP:20201016T094233Z
URL:https://moderaternaihalland.se/events/hostkampanj/
SUMMARY:Höstkampanj
DESCRIPTION:Moderaterna har höstkampanj 5-25 oktober.\n\nPå Moderaternas 
 intranät finns kampanjhandledning\, vykort för egen utskrift\, bilder m
  m. Vi kommer succesivt att komplettera med digitala enheter.\nLogga in p
 å intranätet med mobilt bank-ID. (materialet finns under rubriken "doku
 ment &amp\; filer" är därefter "höstkampanj 2020")\nKampanjaktiviteter\
 n5-18 oktober - dagliga sändningar i Lag1 (på Facebook)\n8 oktober - Gun
 nar Strömmer leder sändning på Lag1 för att sprida maktskifte.nu.\n11 
 oktober - partiledardebatt\n13 oktober - digital town hall\n16 oktober - p
 å maktskifte.nu finns möjlighet att ange telefonnummer och ha chans att 
 bli uppringd av Ulf eller Elisabeth\n24 oktober - nationell kampanjdag\n\n
 Till detta kommer även lokala kampanjaktiviteter.\n\n
ATTACH;FMTTYPE=image/jpeg:https://moderaternaihalland.se/wp-content/upload
 s/2020/08/Höstkampanjsbild.jpg
CATEGORIES:Falkenberg,Halland,Halmstad,Hylte,Kampanj,Kungsbacka,Laholm,Rik
 sorganisationen,Varberg
END:VEVENT
BEGIN:VTIMEZONE
TZID:Europe/Stockholm
X-LIC-LOCATION:Europe/Stockholm
BEGIN:DAYLIGHT
DTSTART:20200329T030000
TZOFFSETFROM:+0100
TZOFFSETTO:+0200
TZNAME:CEST
END:DAYLIGHT
BEGIN:STANDARD
DTSTART:20201025T020000
TZOFFSETFROM:+0200
TZOFFSETTO:+0100
TZNAME:CET
END:STANDARD
END:VTIMEZONE
END:VCALENDAR