BEGIN:VCALENDAR
VERSION:2.0
PRODID:-//wp-events-plugin.com//7.2.3.1//EN
TZID:Europe/Stockholm
X-WR-TIMEZONE:Europe/Stockholm
BEGIN:VEVENT
UID:644@moderaternaihalland.se
DTSTART;TZID=Europe/Stockholm;VALUE=DATE:20210911
DTEND;TZID=Europe/Stockholm;VALUE=DATE:20211011
DTSTAMP:20210910T145336Z
URL:https://moderaternaihalland.se/events/hostkampanj-2/
SUMMARY:Höstkampanj
DESCRIPTION:Moderaterna har höstkampanj.\n\nVi måste få ordning på Sver
 ige. Vårt land är fantastiskt\, men på väg åt fel håll. Skjutningarn
 a och arbetslösheten slår rekord\, utanförskapet växer och både krimi
 naliteten och barnfattigdomen breder ut sig i våra utsatta förorter. Sve
 rige når inte klimatmålen samtidigt som regeringen stänger ner kärnkra
 ft. Vårdköerna växer och stöket i våra skolor gör det omöjligt för
  våra barn att få de kunskaper som behövs.\n\nVi säger som det är\, s
 amtidigt som vi vet att det kan bli bättre om vi gör det som krävs. Fö
 r utvecklingen går att vända. Moderaterna har konkreta lösningar på sa
 mhällsproblemen. Vi har genomtänkta och effektiva reformer och en plan f
 ör att genomföra dessa. Det krävs om vi ska kunna ta tillvara på våra
  möjligheter\, så att Sverige fortsätter att vara världens bästa land
  att leva i.
ATTACH;FMTTYPE=image/jpeg:https://moderaternaihalland.se/wp-content/upload
 s/2019/11/grönt-gräs-blå-himmel.jpg
CATEGORIES:Kampanj,Riksorganisationen
END:VEVENT
BEGIN:VTIMEZONE
TZID:Europe/Stockholm
X-LIC-LOCATION:Europe/Stockholm
BEGIN:DAYLIGHT
DTSTART:20210328T030000
TZOFFSETFROM:+0100
TZOFFSETTO:+0200
TZNAME:CEST
END:DAYLIGHT
END:VTIMEZONE
END:VCALENDAR