BEGIN:VCALENDAR
VERSION:2.0
PRODID:-//wp-events-plugin.com//7.2.3.1//EN
TZID:Europe/Stockholm
X-WR-TIMEZONE:Europe/Stockholm
BEGIN:VEVENT
UID:1009@moderaternaihalland.se
DTSTART;TZID=Europe/Stockholm:20210616T120000
DTEND;TZID=Europe/Stockholm:20210616T130000
DTSTAMP:20210602T112547Z
URL:https://moderaternaihalland.se/events/hallandstimmen-utbildningspoliti
 k/
SUMMARY:Hallandstimmen - utbildningspolitik
DESCRIPTION:I undersökning efter undersökning rasar svenska skolan i rank
 ingen. Vi diskuterar Moderaternas lösningar på det problemet.\n\nLars P
 üss gästas av Kristina Axén Olin (riksdagsledamot &amp\; Moderaternas u
 tbildningspolitiske talesperson).\n\nHallandstimmen är en rad olika korta
  digitala utbildningar som sänds via Facebook.\n\nVälkommen!
ATTACH;FMTTYPE=image/jpeg:https://moderaternaihalland.se/wp-content/upload
 s/2021/06/210616-Hallandstimmen.jpeg
CATEGORIES:Halland,Utbildning
END:VEVENT
BEGIN:VTIMEZONE
TZID:Europe/Stockholm
X-LIC-LOCATION:Europe/Stockholm
BEGIN:DAYLIGHT
DTSTART:20210328T030000
TZOFFSETFROM:+0100
TZOFFSETTO:+0200
TZNAME:CEST
END:DAYLIGHT
END:VTIMEZONE
END:VCALENDAR