BEGIN:VCALENDAR
VERSION:2.0
PRODID:-//wp-events-plugin.com//7.2.3.1//EN
TZID:Europe/Stockholm
X-WR-TIMEZONE:Europe/Stockholm
BEGIN:VEVENT
UID:998@moderaternaihalland.se
DTSTART;TZID=Europe/Stockholm:20210428T120000
DTEND;TZID=Europe/Stockholm:20210428T130000
DTSTAMP:20210406T113654Z
URL:https://moderaternaihalland.se/events/hallandstimmen-jamstalldhet-digi
 talt/
SUMMARY:Hallandstimmen - jämställdhet (digitalt)
DESCRIPTION:Hallandstimmen har denna gång jämställdhet som tema. Helena 
 Antoni gästas av Josefin Malmqvist (riksdagsledamot &amp\; ordförande f
 ör Moderatkvinnorna).\n\nHallandstimmen är en rad olika korta digitala u
 tbildningar som sänds via Facebook.\n\nVälkommen!
ATTACH;FMTTYPE=image/jpeg:https://moderaternaihalland.se/wp-content/upload
 s/2019/10/Malmqvist-Josefine.jpg
CATEGORIES:Halland,Utbildning
END:VEVENT
BEGIN:VTIMEZONE
TZID:Europe/Stockholm
X-LIC-LOCATION:Europe/Stockholm
BEGIN:DAYLIGHT
DTSTART:20210328T030000
TZOFFSETFROM:+0100
TZOFFSETTO:+0200
TZNAME:CEST
END:DAYLIGHT
END:VTIMEZONE
END:VCALENDAR