BEGIN:VCALENDAR
VERSION:2.0
PRODID:-//wp-events-plugin.com//7.2.3.1//EN
TZID:Europe/Stockholm
X-WR-TIMEZONE:Europe/Stockholm
BEGIN:VEVENT
UID:3840@moderaternaihalland.se
DTSTART;TZID=Europe/Stockholm:20250428T183000
DTEND;TZID=Europe/Stockholm:20250428T200000
DTSTAMP:20250124T002402Z
URL:https://moderaternaihalland.se/events/gruppmote-hyltebygden-2/
SUMMARY:Gruppmöte: Hyltebygden
DESCRIPTION:Plats: Moderaternas grupprum\, Kontorshotellet Gamla Brukskonto
 ret\n\nTid: 18:30 – ca 20:00\n\nHandlingar: Nås via länken några daga
 r innan respektive möte på: Översikt | MeetingPlus [sv]
ATTACH;FMTTYPE=image/jpeg:https://moderaternaihalland.se/wp-content/upload
 s/2025/01/Moderaterna-i-Hyltebygden.png
LOCATION:Gamla Brukskontoret\, Gamla Brukskontoret 6\, Hyltebruk\, Sverige
X-APPLE-STRUCTURED-LOCATION;VALUE=URI;X-ADDRESS=Gamla Brukskontoret 6\, Hyl
 tebruk\, Sverige;X-APPLE-RADIUS=100;X-TITLE=Gamla Brukskontoret:geo:0,0
END:VEVENT
BEGIN:VTIMEZONE
TZID:Europe/Stockholm
X-LIC-LOCATION:Europe/Stockholm
BEGIN:DAYLIGHT
DTSTART:20250330T030000
TZOFFSETFROM:+0100
TZOFFSETTO:+0200
TZNAME:CEST
END:DAYLIGHT
END:VTIMEZONE
END:VCALENDAR