BEGIN:VCALENDAR
VERSION:2.0
PRODID:-//wp-events-plugin.com//7.2.3.1//EN
TZID:Europe/Stockholm
X-WR-TIMEZONE:Europe/Stockholm
BEGIN:VEVENT
UID:3831@moderaternaihalland.se
DTSTART;TZID=Europe/Stockholm:20250127T180000
DTEND;TZID=Europe/Stockholm:20250127T200000
DTSTAMP:20250123T235959Z
URL:https://moderaternaihalland.se/events/gruppmote-halmstad-13/
SUMMARY:Gruppmöte: Halmstad
DESCRIPTION:Plats: Söndrums församlingshem\n\nTid: 18:00 – ca 20:00\n\n
 Handlingar: Nås via länken några dagar innan respektive möte på: Komm
 un­styrelsen - Halmstads kommun
ATTACH;FMTTYPE=image/jpeg:https://moderaternaihalland.se/wp-content/upload
 s/2025/01/Moderaterna-i-Halmstad.png
CATEGORIES:Halmstad
LOCATION:Söndrums församlingshem\, Söndrums församlingshem\, Halmstad\,
  Sverige
X-APPLE-STRUCTURED-LOCATION;VALUE=URI;X-ADDRESS=Söndrums församlingshem\,
  Halmstad\, Sverige;X-APPLE-RADIUS=100;X-TITLE=Söndrums församlingshem:g
 eo:0,0
END:VEVENT
BEGIN:VTIMEZONE
TZID:Europe/Stockholm
X-LIC-LOCATION:Europe/Stockholm
BEGIN:STANDARD
DTSTART:20241027T020000
TZOFFSETFROM:+0200
TZOFFSETTO:+0100
TZNAME:CET
END:STANDARD
END:VTIMEZONE
END:VCALENDAR