BEGIN:VCALENDAR
VERSION:2.0
PRODID:-//wp-events-plugin.com//7.2.3.1//EN
TZID:Europe/Stockholm
X-WR-TIMEZONE:Europe/Stockholm
BEGIN:VEVENT
UID:593@moderaternaihalland.se
DTSTART;TZID=Europe/Stockholm:20200809T133000
DTEND;TZID=Europe/Stockholm:20200809T133000
DTSTAMP:20200803T133552Z
URL:https://moderaternaihalland.se/events/golfmasterskap-varberg/
SUMMARY:Golfmästerskap (Varberg)
DESCRIPTION:Det har blivit dags för oss moderater i Varberg att mötas fö
 r en golfrunda. Vi spelar förutom om äran också om den stiliga pokal so
 m förgyllt min bokhylla det senaste året. Vi hoppas på fantastiskt väd
 er och en lättsam och trevlig runda.\nSpelplats blev även detta år på 
 Hofgårds Gks fina banor. Spelavgift blir ca 400:- beroende på mina ”f
 örhandlingar” med PG Pettersson… Avgiften bestäms när jag vet antal
 et startande och swishas till mig innan start.\nHar du någon som vill var
 a med som ännu inte är medlem kan hen sms:a till 72550 med texten MODERA
 T MEDLEM följt av personnummer. Då dras 100:- från telefonen om den är
  inställd för det. Alternativt Swisha 1233360070 - Uppge namn och person
 nummer. Du kan även anmäla till mig vid ankomst.\n\nSista anmälningsdag
  9 augusti. Anmälan sker till reine_antoner@hotmail.com  med golf-id.\nT
 id: 12 augusti\, första start 13:30\nPlats: Hofgårds GK\nSpelform: Poän
 gbogey\nÖppet för alla medlemmar.\n\nHjärtlig välkommen med din anmäl
 an!\nReine Antonér\nTävlingsledare och medspelare
ATTACH;FMTTYPE=image/jpeg:https://moderaternaihalland.se/wp-content/upload
 s/2019/11/grönt-gräs-blå-himmel.jpg
CATEGORIES:Varberg
LOCATION:Hofgårds Golfklubb\, Hofgård 1\, Rolfstorp\, Sverige
X-APPLE-STRUCTURED-LOCATION;VALUE=URI;X-ADDRESS=Hofgård 1\, Rolfstorp\, Sv
 erige;X-APPLE-RADIUS=100;X-TITLE=Hofgårds Golfklubb:geo:0,0
END:VEVENT
BEGIN:VTIMEZONE
TZID:Europe/Stockholm
X-LIC-LOCATION:Europe/Stockholm
BEGIN:DAYLIGHT
DTSTART:20200329T030000
TZOFFSETFROM:+0100
TZOFFSETTO:+0200
TZNAME:CEST
END:DAYLIGHT
END:VTIMEZONE
END:VCALENDAR