BEGIN:VCALENDAR
VERSION:2.0
PRODID:-//wp-events-plugin.com//7.2.3.1//EN
TZID:Europe/Stockholm
X-WR-TIMEZONE:Europe/Stockholm
BEGIN:VEVENT
UID:1638@moderaternaihalland.se
DTSTART;TZID=Europe/Stockholm:20220805T170000
DTEND;TZID=Europe/Stockholm:20220805T170000
DTSTAMP:20220801T105526Z
URL:https://moderaternaihalland.se/events/fredagsmysknack/
SUMMARY:Fredagsmysknack
DESCRIPTION:Nationell dörrknackning.
ATTACH;FMTTYPE=image/jpeg:https://moderaternaihalland.se/wp-content/upload
 s/2022/06/16.png
CATEGORIES:Kampanj,Val 2022
END:VEVENT
BEGIN:VTIMEZONE
TZID:Europe/Stockholm
X-LIC-LOCATION:Europe/Stockholm
BEGIN:DAYLIGHT
DTSTART:20220327T030000
TZOFFSETFROM:+0100
TZOFFSETTO:+0200
TZNAME:CEST
END:DAYLIGHT
END:VTIMEZONE
END:VCALENDAR