BEGIN:VCALENDAR
VERSION:2.0
PRODID:-//wp-events-plugin.com//7.2.3.1//EN
TZID:Europe/Stockholm
X-WR-TIMEZONE:Europe/Stockholm
BEGIN:VEVENT
UID:580@moderaternaihalland.se
DTSTART;TZID=Europe/Stockholm:20200912T100000
DTEND;TZID=Europe/Stockholm:20200912T100000
DTSTAMP:20200904T112454Z
URL:https://moderaternaihalland.se/events/forbundsrad-falkenberg/
SUMMARY:Förbundsråd (digitalt)
DESCRIPTION:Moderaterna i Halland har förbundsråd\, som består av förbu
 ndsstyrelsen\, samt ordförande i partiföreningar och MUF-föreningar.\nP
 lats och tid\nDen 12 september 2020 kl. 10.00 (digitalt möte).\nÄrenden\
 n\n 	Årsredovisning och förvaltningsberättelse 2019-20\n 	Justeringar a
 v rekryterings- och nomineringsregler\n 	Information om kommande verksamhe
 t\n 	Tal av Europaparlamentariker Jörgen Warborn\n 	Övriga frågor\n\nAn
 mälan\nAll anmälan sker genom denna länk senast den 6 september.\n\nOm 
 ordförande i parti- eller MUF-förening har förhinder kan denne ersätta
 s av t ex vice ordförande. Ange i så fall vem du ersätter i anmälnings
 formuläret.\nHandlingar\nHandlingarna kommer att skickas ut till förenin
 gar/deltagare före förbundsrådet.\n\nVälkommen!\n\n&nbsp\;
ATTACH;FMTTYPE=image/jpeg:https://moderaternaihalland.se/wp-content/upload
 s/2019/11/grönt-gräs-blå-himmel.jpg
CATEGORIES:Halland
LOCATION:Hotell Vesterhavet\, Motellvägen 3\, Falkenberg\, Sverige
X-APPLE-STRUCTURED-LOCATION;VALUE=URI;X-ADDRESS=Motellvägen 3\, Falkenberg
 \, Sverige;X-APPLE-RADIUS=100;X-TITLE=Hotell Vesterhavet:geo:0,0
END:VEVENT
BEGIN:VTIMEZONE
TZID:Europe/Stockholm
X-LIC-LOCATION:Europe/Stockholm
BEGIN:DAYLIGHT
DTSTART:20200329T030000
TZOFFSETFROM:+0100
TZOFFSETTO:+0200
TZNAME:CEST
END:DAYLIGHT
END:VTIMEZONE
END:VCALENDAR