BEGIN:VCALENDAR
VERSION:2.0
PRODID:-//wp-events-plugin.com//7.2.3.1//EN
TZID:Europe/Stockholm
X-WR-TIMEZONE:Europe/Stockholm
BEGIN:VEVENT
UID:531@moderaternaihalland.se
DTSTART;TZID=Europe/Stockholm:20200214T100000
DTEND;TZID=Europe/Stockholm:20200214T150000
DTSTAMP:20200123T160015Z
URL:https://moderaternaihalland.se/events/forbundsordforandekonferens-stoc
 kholm/
SUMMARY:Förbundsordförandekonferens (Stockholm)
DESCRIPTION:Moderaterna har förbundsordförandekonferens i Stockholm.\n\nK
 onferensen kommer att ha fokus på året och den långsiktiga vägen fram 
 till valet 2022.\n\nHar du som förbundsordförande inte möjlighet att de
 lta så sänd gärna inbjudan vidare till vice ordförande.\n\nAnmälan sk
 ickas till: susanne.pettersson@moderaterna.se\, sista datum för anmälan 
 är den 7 februari. Ingen deltagaravgift\, men deltagarna betalar själva 
 för resa.\n\nPraktiska frågor angående konferensen besvaras av Susanne 
 Pettersson.\n\nVälkommen!
ATTACH;FMTTYPE=image/jpeg:https://moderaternaihalland.se/wp-content/upload
 s/2019/11/skriver.jpg
CATEGORIES:Riksorganisationen,Utbildning
LOCATION:Moderaternas riksorganisation\, Blasieholmsgatan 4 A\, Stockholm\,
  Sverige
X-APPLE-STRUCTURED-LOCATION;VALUE=URI;X-ADDRESS=Blasieholmsgatan 4 A\, Stoc
 kholm\, Sverige;X-APPLE-RADIUS=100;X-TITLE=Moderaternas riksorganisation:g
 eo:0,0
END:VEVENT
BEGIN:VTIMEZONE
TZID:Europe/Stockholm
X-LIC-LOCATION:Europe/Stockholm
BEGIN:STANDARD
DTSTART:20191027T020000
TZOFFSETFROM:+0200
TZOFFSETTO:+0100
TZNAME:CET
END:STANDARD
END:VTIMEZONE
END:VCALENDAR