BEGIN:VCALENDAR
VERSION:2.0
PRODID:-//wp-events-plugin.com//7.2.3.1//EN
TZID:Europe/Stockholm
X-WR-TIMEZONE:Europe/Stockholm
BEGIN:VEVENT
UID:546@moderaternaihalland.se
DTSTART;TZID=Europe/Stockholm:20200911T100000
DTEND;TZID=Europe/Stockholm:20200911T150000
DTSTAMP:20200803T133943Z
URL:https://moderaternaihalland.se/events/forbundsordforandekonferens-digi
 tal/
SUMMARY:Förbundsordförandekonferens (digital)
DESCRIPTION:Moderaterna har digital förbundsordförandekonferens kl. 10-12
  och 13-15..
ATTACH;FMTTYPE=image/jpeg:https://moderaternaihalland.se/wp-content/upload
 s/2019/11/skriver.jpg
CATEGORIES:Riksorganisationen,Utbildning
END:VEVENT
BEGIN:VTIMEZONE
TZID:Europe/Stockholm
X-LIC-LOCATION:Europe/Stockholm
BEGIN:DAYLIGHT
DTSTART:20200329T030000
TZOFFSETFROM:+0100
TZOFFSETTO:+0200
TZNAME:CEST
END:DAYLIGHT
END:VTIMEZONE
END:VCALENDAR