BEGIN:VCALENDAR
VERSION:2.0
PRODID:-//wp-events-plugin.com//7.2.3.1//EN
TZID:Europe/Stockholm
X-WR-TIMEZONE:Europe/Stockholm
BEGIN:VEVENT
UID:1267@moderaternaihalland.se
DTSTART;TZID=Europe/Stockholm:20211207T180000
DTEND;TZID=Europe/Stockholm:20211208T200000
DTSTAMP:20211112T133535Z
URL:https://moderaternaihalland.se/events/digitalt-valfokus-2/
SUMMARY:Digitalt valfokus
DESCRIPTION:I september genomförde vi vårt första digitala valfokus med 
 målet att ge våra föreningar de verktyg som behövs för att genomföra
  en framgångsrik valrörelse. Med hundratals deltagare på varje möte bl
 ev det en stor succé! Därför kör vi under början av december ännu et
 t digitalt valfokus.\n\nProgrammet kommer att vara relevant för såväl d
 e som deltog förra gången som för dem som inte hade möjlighet att vara
  med i september. Som deltagare kan du vara med på båda kvällarna eller
  enbart de utbildningar som passar just dig.\n\nDetta är verkligen ett yp
 perligt tillfälle för alla föreningar att hämta hem beprövad kunskap 
 och ta del av goda erfarenheter.\n\nMålgrupper för valfokus är förbund
 sstyrelser\, föreningsstyrelser\, valledare\, kampanjledare\, medieansvar
 iga\, riksdagsledamöter\, råd i kommun och region och anställda inom Mo
 deraterna. Övriga som vill engagera sig är givetvis också välkomna.\n7
  december\n\n 	Vinnarkultur &amp\; valkampanj – Elisabeth Svantesson\, f
 inanspolitisk talesperson &amp\; vice partiledare\n 	Moderaternas kommunik
 ationsstrategi – Martin Borgs\, kommunikationschef\n 	Kampanjverktyg (Ca
 llhub\, Moppins\, Ecanvasser) – Johan Hjelmstrand\, Chief data officer\n
 \n8 december\n\n 	SUCCES\, en formel för hur man når ut i sociala medier
  – Susanna Silfverskiöld\, copywriter\n 	Valbudget på förenings- och 
 förbundsnivå – Mikael Larsson\, biträdande organisationschef och chef
  för fältorganisationen\n 	Vem gör vad i den lokala kampanjen? – Emel
 ie Jaxell\, partiombudsman i Västmanlands län\n 	Facebook ads/annonserin
 g – Tobias Holdstock\, projektledare\, Stiftelsen fritt näringsliv\n\nD
 atum &amp\; tid\nDatum: tisdagen 7 och onsdagen 8 december.\nTid: 18:00 
 – 20:00 båda kvällarna.\nLänkar\n7 december – länk här\n8 decembe
 r – länk här\n\nVälkommen!
ATTACH;FMTTYPE=image/jpeg:https://moderaternaihalland.se/wp-content/upload
 s/2021/11/digitaltvalfokus_dec.png
CATEGORIES:Riksorganisationen,Utbildning,Val 2022
END:VEVENT
BEGIN:VTIMEZONE
TZID:Europe/Stockholm
X-LIC-LOCATION:Europe/Stockholm
BEGIN:STANDARD
DTSTART:20211031T020000
TZOFFSETFROM:+0200
TZOFFSETTO:+0100
TZNAME:CET
END:STANDARD
END:VTIMEZONE
END:VCALENDAR