BEGIN:VCALENDAR
VERSION:2.0
PRODID:-//wp-events-plugin.com//7.2.3.1//EN
TZID:Europe/Stockholm
X-WR-TIMEZONE:Europe/Stockholm
BEGIN:VEVENT
UID:661@moderaternaihalland.se
DTSTART;TZID=Europe/Stockholm:20201208T180000
DTEND;TZID=Europe/Stockholm:20201208T180000
DTSTAMP:20201201T085645Z
URL:https://moderaternaihalland.se/events/brottsprevention-och-trygghet-di
 gitalt/
SUMMARY:Brottsprevention och trygghet (digitalt)
DESCRIPTION:Moderaterna Halmstad bjuder in till digital föreläsning på 
 ämnet "Brottsprevention och trygghet".\n\nStefan Borgman som arbetar med 
 brottsförebyggande åtgärder på Länsstyrelsen ger en kunskapshöjande 
 och tankeväckande föreläsning.\n\nTacksamma om ni kan bekräfta till ro
 bertlindell035@gmail.com om ni tänker delta. Skicka även ev frågor till
  samma adress.\n\nVälkommen!
ATTACH;FMTTYPE=image/jpeg:https://moderaternaihalland.se/wp-content/upload
 s/2020/12/Trygghet-scaled.jpg
CATEGORIES:Halmstad,Utbildning
END:VEVENT
BEGIN:VTIMEZONE
TZID:Europe/Stockholm
X-LIC-LOCATION:Europe/Stockholm
BEGIN:STANDARD
DTSTART:20201025T020000
TZOFFSETFROM:+0200
TZOFFSETTO:+0100
TZNAME:CET
END:STANDARD
END:VTIMEZONE
END:VCALENDAR