BEGIN:VCALENDAR
VERSION:2.0
PRODID:-//wp-events-plugin.com//7.2.3.1//EN
TZID:Europe/Stockholm
X-WR-TIMEZONE:Europe/Stockholm
BEGIN:VEVENT
UID:1590@moderaternaihalland.se
DTSTART;TZID=Europe/Stockholm:20220330T180000
DTEND;TZID=Europe/Stockholm:20220330T180000
DTSTAMP:20220322T094238Z
URL:https://moderaternaihalland.se/events/arsmote-laholm-3/
SUMMARY:Årsmöte (Laholm)
DESCRIPTION:Moderaterna i Laholm har årsmöte.\nProgram\n\n 	Årsmötesfö
 rhandlingar\n 	Smörgås\, kaffe/te\n 	Gösta Bergenheim informerar om Hal
 landstrafiken och Markarydsbanan.\n\nVälkommen!
ATTACH;FMTTYPE=image/jpeg:https://moderaternaihalland.se/wp-content/upload
 s/2019/11/grusväg-som-delar-sig.jpg
CATEGORIES:Laholm
LOCATION:Knäreds bygdegård\, Dalavägen 38\, Knäred\, Sverige
X-APPLE-STRUCTURED-LOCATION;VALUE=URI;X-ADDRESS=Dalavägen 38\, Knäred\, S
 verige;X-APPLE-RADIUS=100;X-TITLE=Knäreds bygdegård:geo:0,0
END:VEVENT
BEGIN:VTIMEZONE
TZID:Europe/Stockholm
X-LIC-LOCATION:Europe/Stockholm
BEGIN:DAYLIGHT
DTSTART:20220327T030000
TZOFFSETFROM:+0100
TZOFFSETTO:+0200
TZNAME:CEST
END:DAYLIGHT
END:VTIMEZONE
END:VCALENDAR