BEGIN:VCALENDAR
VERSION:2.0
PRODID:-//wp-events-plugin.com//7.2.3.1//EN
TZID:Europe/Stockholm
X-WR-TIMEZONE:Europe/Stockholm
BEGIN:VEVENT
UID:1579@moderaternaihalland.se
DTSTART;TZID=Europe/Stockholm:20220331T183000
DTEND;TZID=Europe/Stockholm:20220331T183000
DTSTAMP:20220322T091804Z
URL:https://moderaternaihalland.se/events/arsmote-halmstad-3/
SUMMARY:Årsmöte (Halmstad)
DESCRIPTION:Härmed kallas alla medlemmar i Halmstadmoderaterna till årsm
 öte\n\nFöreningen bjuder på kaffe och en smörgås före årsmötet. Se
 rveras från kl 18\,00\n\nÅrsmötestalare är Riksdagsledamot Helena Stor
 ckenfeldt\nAnmälan\nMed hänsyn till beställning av förtäring behöver
  vi din anmälan\, om deltagande senast torsdagen den 27. Mars kl 18.00 ti
 ll halmstad@halmstadmoderaterna.se\nOBS! Anmäl eventuella matallergier\n\
 nVälkommen!
ATTACH;FMTTYPE=image/jpeg:https://moderaternaihalland.se/wp-content/upload
 s/2019/11/grusväg-som-delar-sig.jpg
CATEGORIES:Halmstad
LOCATION:Gullbrannagården\, Eldsberga\, Halmstad\, Sverige
X-APPLE-STRUCTURED-LOCATION;VALUE=URI;X-ADDRESS=Eldsberga\, Halmstad\, Sver
 ige;X-APPLE-RADIUS=100;X-TITLE=Gullbrannagården:geo:0,0
END:VEVENT
BEGIN:VTIMEZONE
TZID:Europe/Stockholm
X-LIC-LOCATION:Europe/Stockholm
BEGIN:DAYLIGHT
DTSTART:20220327T030000
TZOFFSETFROM:+0100
TZOFFSETTO:+0200
TZNAME:CEST
END:DAYLIGHT
END:VTIMEZONE
END:VCALENDAR