BEGIN:VCALENDAR
VERSION:2.0
PRODID:-//wp-events-plugin.com//7.2.3.1//EN
TZID:Europe/Stockholm
X-WR-TIMEZONE:Europe/Stockholm
BEGIN:VEVENT
UID:541@moderaternaihalland.se
DTSTART;TZID=Europe/Stockholm:20200302T183000
DTEND;TZID=Europe/Stockholm:20200302T183000
DTSTAMP:20200205T143055Z
URL:https://moderaternaihalland.se/events/arsmote-falkenberg/
SUMMARY:Årsmöte (Falkenberg)
DESCRIPTION:Moderaterna i Falkenberg har årsmöte.\nProgram\n\n 	Tal "Hål
 lbarhet - fördelar med att minska det animaliska proteinet" av Agneta Elo
 vsson (chef för kost och städ) och Kristina Kjellgren (förvaltningschef
 )\, båda Falkenbergs kommun.\n 	Årsmötesförhandlingar\n 	Föreningen b
 juder på mat\n\nAnmälan senast den 24/2 till Angela Malmgren (0346-100 2
 5)\, anmäl även eventuell specialkost.\n\nVälkommen!
ATTACH;FMTTYPE=image/jpeg:https://moderaternaihalland.se/wp-content/upload
 s/2019/10/skolan_0.jpg
CATEGORIES:Falkenberg
LOCATION:Hamnkrogen (Falkenberg)\, Hamngatan 39\, Falkenberg\, Sverige
X-APPLE-STRUCTURED-LOCATION;VALUE=URI;X-ADDRESS=Hamngatan 39\, Falkenberg\,
  Sverige;X-APPLE-RADIUS=100;X-TITLE=Hamnkrogen (Falkenberg):geo:0,0
END:VEVENT
BEGIN:VTIMEZONE
TZID:Europe/Stockholm
X-LIC-LOCATION:Europe/Stockholm
BEGIN:STANDARD
DTSTART:20191027T020000
TZOFFSETFROM:+0200
TZOFFSETTO:+0100
TZNAME:CET
END:STANDARD
END:VTIMEZONE
END:VCALENDAR