BEGIN:VCALENDAR
VERSION:2.0
PRODID:-//wp-events-plugin.com//7.2.3.1//EN
TZID:Europe/Stockholm
X-WR-TIMEZONE:Europe/Stockholm
BEGIN:VEVENT
UID:532@moderaternaihalland.se
DTSTART;TZID=Europe/Stockholm:20200220T190000
DTEND;TZID=Europe/Stockholm:20200220T190000
DTSTAMP:20200131T133216Z
URL:https://moderaternaihalland.se/events/arsmote-asa/
SUMMARY:Årsmöte (Åsa)
DESCRIPTION:Moderaterna i Åsa har årsmöte.\n\nAnmälan senast den 15 feb
 ruari till Rolf-Arne Ullaeus (070-579 02 55).\nProgram\n\n 	Årsmötesför
 handlingar\n 	Ulrika Jörgensen - "Min väg från kommun till riksdag"\n 	
 Förtäring\n\nVälkommen!
ATTACH;FMTTYPE=image/jpeg:https://moderaternaihalland.se/wp-content/upload
 s/2019/10/skolan_0.jpg
CATEGORIES:Kungsbacka
LOCATION:St Lars församlingshem\, Stenviksvägen 15\, Åsa\, Sverige
X-APPLE-STRUCTURED-LOCATION;VALUE=URI;X-ADDRESS=Stenviksvägen 15\, Åsa\, 
 Sverige;X-APPLE-RADIUS=100;X-TITLE=St Lars församlingshem:geo:0,0
END:VEVENT
BEGIN:VTIMEZONE
TZID:Europe/Stockholm
X-LIC-LOCATION:Europe/Stockholm
BEGIN:STANDARD
DTSTART:20191027T020000
TZOFFSETFROM:+0200
TZOFFSETTO:+0100
TZNAME:CET
END:STANDARD
END:VTIMEZONE
END:VCALENDAR