BEGIN:VCALENDAR
VERSION:2.0
PRODID:-//wp-events-plugin.com//7.2.3.1//EN
TZID:Europe/Stockholm
X-WR-TIMEZONE:Europe/Stockholm
BEGIN:VEVENT
UID:589@moderaternaihalland.se
DTSTART;TZID=Europe/Stockholm;VALUE=DATE:20201001
DTEND;TZID=Europe/Stockholm;VALUE=DATE:20201002
DTSTAMP:20200617T092235Z
URL:https://moderaternaihalland.se/events/ansokan-till-aktion-mkf/
SUMMARY:Ansökan till Aktion MKF
DESCRIPTION:Nu drar processen igång för att ansöka till Moderatkvinnorna
 s nationella spetsutbildning Aktion MKF.\n\nUtbildningen vänder sig till 
 dig som redan idag har ledande uppdrag för vårt parti som exempelvis ord
 förande eller vice ordförande i nämnd\, är kommunalråd\, regionråd e
 ller riksdagsledamot. Kursen förutsätter att du har goda kunskaper om de
 t politiska arbetet och vill utvecklas ytterligare på områden så som le
 darskap\, kommunikation\, opinionsbildning samt i det politiska hantverket
 .\n\nVarje år antas ca 20 nya deltagare från hela landet och syftet med 
 utbildningen är att ge dessa kvinnor inspiration\, nätverk och kunskap a
 tt framgångsrikt leda och företräda moderaterna.\n\nUtbildningen pågå
 r under 2\,5 år och finansieras till stor del av Moderatkvinnorna natione
 llt. En deltagaravgift på 4000kr/år (totalt 10 000kr) tas dock ut och be
 talas av det länsförbund du som deltagare bor i vid ansökningstillfäll
 et. Därmed krävs det att du som deltagare har ditt förbunds nominering 
 och stöd för att kunna delta i utbildningen.\n\nAnsökningsprocessen ser
  ut som följande:\n1 okt Sista dag att ansöka om nominering från ditt l
 änsförbund. Kontakta gärna dem i god tid innan\, för att veta om det 
 är någon särskild information de vill ha av dig som kandidat. Fyll i fo
 rmuläret nedan och skicka till ditt länsförbund.\n1 nov Sista dag för 
 länsförbunden att inkomma med sina nomineringar och ansökningsformulär
 et.\n1 dec Besked om antagning!\n\nDeltagarna i Aktion MKF förbinder sig 
 att delta under utbildningens fem tillfällen samt att fullfölja de hemup
 pgifter som löper mellan utbildningens tillfällen. Missar man två eller
  flera tillfällen av utbildningen kan det leda till att man inte får slu
 tföra utbildningen. I den mån man på grund av sjukdom inte kan närvara
 \, behöver det anmälas innan kurstillfället.\n\nDatum för träffarna:\
 nTräff 1: 29-31/1 2021\nTräff 2: 24-26/9 2021\nTräff 3: 26-28/3 2022\nT
 räff 4: 21-23/10 2022\nTräff 5: preliminärt en sön-tis under maj måna
 d i Bryssel.\n\nHar du frågor kontakta ansvariga för Aktion MKF:\nCaroli
 ne Högström\ncaroline.hogstrom@moderaterna.se\n073-743 86 00\n\nIda Drou
 gge\nida.drougge@riksdagen.se\n072-538 39 34\n\n[gdlr_button href="https:/
 /www.moderaternaihalland.se/wp-content/uploads/2020/06/Ansökningsformula
 ̈r.docx" target="_self" size="medium" background="#3D506D" color="#ffffff
 "]Ansökningsformulär[/gdlr_button]\n\nVälkommen med din ansökan!
ATTACH;FMTTYPE=image/jpeg:https://moderaternaihalland.se/wp-content/upload
 s/2019/11/skriver.jpg
CATEGORIES:MQ,Utbildning
END:VEVENT
BEGIN:VTIMEZONE
TZID:Europe/Stockholm
X-LIC-LOCATION:Europe/Stockholm
BEGIN:DAYLIGHT
DTSTART:20200329T030000
TZOFFSETFROM:+0100
TZOFFSETTO:+0200
TZNAME:CEST
END:DAYLIGHT
END:VTIMEZONE
END:VCALENDAR