BEGIN:VCALENDAR
VERSION:2.0
PRODID:-//wp-events-plugin.com//7.2.3.1//EN
TZID:Europe/Stockholm
X-WR-TIMEZONE:Europe/Stockholm
BEGIN:VEVENT
UID:622@moderaternaihalland.se
DTSTART;TZID=Europe/Stockholm;VALUE=DATE:20201008
DTEND;TZID=Europe/Stockholm;VALUE=DATE:20201202
DTSTAMP:20201110T133439Z
URL:https://moderaternaihalland.se/events/ansok-till-politikerskolan/
SUMMARY:Ansök till Politikerskolan
DESCRIPTION:Moderaterna i Halland förbereder sig för valseger 2022. Vi st
 artar en Politikerskola\, med grundläggande politik\, där vi erbjuder m
 öjligheter att engagera sig för Moderaterna.\n\nPolitikerskolan kommer a
 tt genomföras genom fysiska möten under 3 vardagskvällar (januari-april
  om inte pandemin hindrar detta).\nVi söker dig som är\n\n 	Politiskt in
 tresserad och delar Moderaternas värderingar\n 	Engagerad\, initiativrik 
 och en bra lagspelare\n 	Intresserad av att kandidera som förtroendevald\
 , men inte tidigare haft politiska uppdrag\n\nVi ställer inga krav på at
 t du ska engagera dig efter utbildningen. Vi utfärdar heller inga löften
  om uppdrag i framtiden. Detta kan vara början på ett längre politiskt 
 engagemang eller stanna vid en ny erfarenhet.\n\nDå Moderaterna värdesä
 tter mångfald ser vi gärna sökande med olika bakgrund och erfarenheter.
 \nVill du vara med?\nAnsök senast den 1 december 2020. På högst en A4-s
 ida presenterar du vem du är och varför du vill delta i Politikerskolan.
  Antalet platser är begränsade.\nSkicka ansökan till halland@moderatern
 a.se (märk med Politikerskolan).\n\nVälkommen med din ansökan!
ATTACH;FMTTYPE=image/jpeg:https://moderaternaihalland.se/wp-content/upload
 s/2020/10/Politikerskola-1b.png
CATEGORIES:Halland,Utbildning
END:VEVENT
BEGIN:VTIMEZONE
TZID:Europe/Stockholm
X-LIC-LOCATION:Europe/Stockholm
BEGIN:DAYLIGHT
DTSTART:20200329T030000
TZOFFSETFROM:+0100
TZOFFSETTO:+0200
TZNAME:CEST
END:DAYLIGHT
BEGIN:STANDARD
DTSTART:20201025T020000
TZOFFSETFROM:+0200
TZOFFSETTO:+0100
TZNAME:CET
END:STANDARD
END:VTIMEZONE
END:VCALENDAR